BEGIN:VCALENDAR
VERSION:2.0
PRODID:-//Ville à Joie - ECPv5.5.0.1//NONSGML v1.0//EN
CALSCALE:GREGORIAN
METHOD:PUBLISH
X-WR-CALNAME:Ville à Joie
X-ORIGINAL-URL:https://villeajoie.fr
X-WR-CALDESC:évènements pour Ville à Joie
BEGIN:VTIMEZONE
TZID:UTC
BEGIN:STANDARD
TZOFFSETFROM:+0000
TZOFFSETTO:+0000
TZNAME:UTC
DTSTART:20210101T000000
END:STANDARD
END:VTIMEZONE
BEGIN:VEVENT
DTSTART;TZID=UTC:20210521T163000
DTEND;TZID=UTC:20210521T203000
DTSTAMP:20260421T120106
CREATED:20210426T144125Z
LAST-MODIFIED:20210518T123422Z
UID:25292-1621614600-1621629000@villeajoie.fr
SUMMARY:La Ville à Joie à Oulon - Passage 1/3
DESCRIPTION:? Salut les Oulonnais\, \nVille à Joie arrive dans votre commune ! On a hâte de vous rencontrer ! \nRendez-vous sur la place de votre village pour un événement mélangeant convivialité et services de proximité.  \nAu programme : \n? Des animations seront sur place pour votre plus grand amusement : jeux\, pétanque\, badminton …   \n?  Des stands de service vous accueillerons : \n\nUn stand Malakoff Humanis sera présent pour vous orienter et vous informer sur les services et les aides possibles sur des sujets variés comme la santé\, la retraite\, les droits…\nUn stand “Territoires zéro chômeur longue durée” pour découvrir cette expérimentation dont votre commune bénéficie et rencontrer le Comité Locale d’Expérimentation (CLE) et l’Entreprise à But d’Emploi (EBE58).\nUn stand “Les services du territoire disponibles pour les habitants” pour prendre connaissance des services disponibles sur votre territoire. Qu’est-ce que la Maison France Services et la communauté de communes vous proposent ?\n\n? Vous aurez également l’occasion de participer à ces animations autour d’un verre !  \nPour plus d’informations\, nous vous invitons à contacter votre mairie. \nA très vite\, \nL’équipe Ville à Joie ✨
URL:https://villeajoie.fr/tournees/la-ville-a-joie-a-oulon-_-passage-1/
LOCATION:Place de la Mairie Oulon\, 1 Route Charles Roy\, Oulon\, 58700\, France
CATEGORIES:Tournée Val de Loire Nivernais
ATTACH;FMTTYPE=image/jpeg:https://villeajoie.fr/wp-content/uploads/2021/04/Vigne-Loire-_-Pouilly-3-scaled.jpg
GEO:47.199789;3.3967484
X-APPLE-STRUCTURED-LOCATION;VALUE=URI;X-ADDRESS=Place de la Mairie Oulon 1 Route Charles Roy Oulon 58700 France;X-APPLE-RADIUS=500;X-TITLE=1 Route Charles Roy:geo:3.3967484,47.199789
END:VEVENT
END:VCALENDAR