BEGIN:VCALENDAR
VERSION:2.0
PRODID:-//Ville à Joie - ECPv5.5.0.1//NONSGML v1.0//EN
CALSCALE:GREGORIAN
METHOD:PUBLISH
X-WR-CALNAME:Ville à Joie
X-ORIGINAL-URL:https://villeajoie.fr
X-WR-CALDESC:évènements pour Ville à Joie
BEGIN:VTIMEZONE
TZID:UTC
BEGIN:STANDARD
TZOFFSETFROM:+0000
TZOFFSETTO:+0000
TZNAME:UTC
DTSTART:20210101T000000
END:STANDARD
END:VTIMEZONE
BEGIN:VEVENT
DTSTART;TZID=UTC:20210522T163000
DTEND;TZID=UTC:20210522T203000
DTSTAMP:20260421T101358
CREATED:20210426T144309Z
LAST-MODIFIED:20210518T123428Z
UID:25295-1621701000-1621715400@villeajoie.fr
SUMMARY:La Ville à Joie à Chevenon - Passage 1/3
DESCRIPTION:? Salut les Chevenonnais\, \nLa tournée passera bientôt dans votre commune !  \nRendez-vous sur le stade de foot de votre village pour un événement mélangeant convivialité et services de proximité.  \nAu programme : \n? Des animations seront sur place pour votre plus grand amusement : jeux\, pétanque\, badminton …  \n?  Des stands de service vous accueillerons : \n\nUn stand “L’Union Départementale des Associations Familiales de la Nièvre vous informe“\n pour répondre à vos interrogations sur la gestion de votre budget et de vos finances\, ou encore sur des difficultés financières\, \n\n\n Stand de l’association “Accompagnement de la personne addictée et de son entourage“ pour vous orienter sur les sujets de prévention des addictions\, \n\n\nUn stand Malakoff Humanis sera présent pour vous orienter et vous informer sur les services et aides possibles sur des sujets variés comme la santé\, la retraite\, les droits… \n\n\n?  Le restaurant du village vous proposera des plats à emporter ! \nVous aurez également l’occasion de participer à ces animations autour d’un verre ! \nPour plus d’informations\, nous vous invitons à contacter votre mairie. \nA très vite\, \nL’équipe Ville à Joie ✨
URL:https://villeajoie.fr/tournees/la-ville-a-joie-a-chevenon-passage-1/
LOCATION:Place de la Mairie de Chevenon\, 3 Rue des Écoles\, Chevenon\, 58160\, France
CATEGORIES:Tournée Val de Loire Nivernais
ATTACH;FMTTYPE=image/jpeg:https://villeajoie.fr/wp-content/uploads/2021/04/Vigne-Loire-_-Pouilly-4-scaled.jpg
GEO:46.9200414;3.2286275
X-APPLE-STRUCTURED-LOCATION;VALUE=URI;X-ADDRESS=Place de la Mairie de Chevenon 3 Rue des Écoles Chevenon 58160 France;X-APPLE-RADIUS=500;X-TITLE=3 Rue des Écoles:geo:3.2286275,46.9200414
END:VEVENT
END:VCALENDAR